BEGIN:VCALENDAR
VERSION:2.0
PRODID:-//Experience Sport - ECPv4.9.14//NONSGML v1.0//EN
CALSCALE:GREGORIAN
METHOD:PUBLISH
X-WR-CALNAME:Experience Sport
X-ORIGINAL-URL:https://www.experiencesport.com.au
X-WR-CALDESC:Events for Experience Sport
BEGIN:VTIMEZONE
TZID:Europe/Paris
BEGIN:DAYLIGHT
TZOFFSETFROM:+0100
TZOFFSETTO:+0200
TZNAME:CEST
DTSTART:20200329T010000
END:DAYLIGHT
BEGIN:STANDARD
TZOFFSETFROM:+0200
TZOFFSETTO:+0100
TZNAME:CET
DTSTART:20201025T010000
END:STANDARD
END:VTIMEZONE
BEGIN:VEVENT
DTSTART;VALUE=DATE:20200523
DTEND;VALUE=DATE:20200524
DTSTAMP:20200228T100708
CREATED:20181119T082420Z
LAST-MODIFIED:20190822T030143Z
UID:1829-1590192000-1590278399@www.experiencesport.com.au
SUMMARY:FA Cup Final 2020
DESCRIPTION:Let Experience Sport provide you with a once in a life time opportunity to immerse yourself in the history\, passion\, excitement of the legendary FA Cup Final! Our FA Cup package includes 3 night accommodation at your choice of hotels and great seating. \nOver 700 teams across the UK from level 10 to the top professional teams compete in this annual knockout\, the oldest national football competition in the world. You can be there and experience the super atmosphere of the tens of thousands of supporters at Wembley Stadium cheering on the last 2 surviving teams from the knockout stages at the FA Cup Final. \nHeld at London’s Wembley Stadium\, you will enjoy the best view and comfort with Club Wembley seating\, with access to bars\, restaurants and a match programme included. \n
URL:https://www.experiencesport.com.au/package/fa-cup-final/
LOCATION:Wembley Stadium\, London\, London\, United Kingdom
CATEGORIES:Football
ATTACH;FMTTYPE=image/jpeg:https://www.experiencesport.com.au/wp-content/uploads/fa-cup-featured-image.jpg
END:VEVENT
END:VCALENDAR